 
BEGIN:VCALENDAR
VERSION:2.0
PRODID:-//Events//1.0
CALSCALE:GREGORIAN
METHOD:PUBLISH
X-WR-CALNAME:Cruisin for the Cure
X-WR-CALDESC:The poker run will start at the Osborne City Library,325
 West Main Street in Osborne. Registration will be from
 11:00 am to 1:00 pm and the last bike will leave at 1:00
 pm. This will be 137 mile ride around Osborne County, with
 stops in Downs, Portis, Alton, and Natoma.
BEGIN:VEVENT
UID:4567037a-6edf-49b3-a33d-d8cac60e1cba
DTSTAMP:20101002T090000Z
DTSTART:20101002T090000Z
DTEND:20101002T220000Z
SUMMARY:Cruisin for the Cure
DESCRIPTION:The poker run will start at the Osborne City Library,325
 West Main Street in Osborne. Registration will be from
 11:00 am to 1:00 pm and the last bike will leave at 1:00
 pm. This will be 137 mile ride around Osborne County, with
 stops in Downs, Portis, Alton, and Natoma.
LOCATION:
URL:
END:VEVENT
END:VCALENDAR