BEGIN:VCALENDAR
VERSION:2.0
PRODID:-//Events//1.0
CALSCALE:GREGORIAN
METHOD:PUBLISH
X-WR-CALNAME:Snowshoe Freedom Fest Motorcycle Rally
X-WR-CALDESC:Registration will be held at 10 Snowshoe Drive in
 Snowshoe.\n  Registration opens Thursday at 4:00 pm. The
 event will include guided tours, a bike show, biker games,
 music, contests and more. Admission is $29.00 if
 pre-registered or $39.00 at the event. The fee includes a
 t-shirt, mug and pin.
BEGIN:VEVENT
UID:f2ad98d9-10d5-4bdf-98fa-af377bc59cd1
DTSTAMP:20100715T200000Z
DTSTART:20100715T200000Z
DTEND:20100719T020000Z
SUMMARY:Snowshoe Freedom Fest Motorcycle Rally
DESCRIPTION:Registration will be held at 10 Snowshoe Drive in
 Snowshoe.\n  Registration opens Thursday at 4:00 pm. The
 event will include guided tours, a bike show, biker games,
 music, contests and more. Admission is $29.00 if
 pre-registered or $39.00 at the event. The fee includes a
 t-shirt, mug and pin.
LOCATION:
URL:<a target="_blank" href="http://www.snowshoefreedomfest.com" title="Visit www.snowshoefreedomfest.com">http://www.snowshoefreedomfest.com</a>
END:VEVENT
END:VCALENDAR