 
BEGIN:VCALENDAR
VERSION:2.0
PRODID:-//Events//1.0
CALSCALE:GREGORIAN
METHOD:PUBLISH
X-WR-CALNAME:Rescue Ride 2010
X-WR-CALDESC:The ride starts at the Bethel Christian Church and begins
 at 9:00 am. The 22 mile ride will also have music and food.
 The ride will benefit Impact Nations.
BEGIN:VEVENT
UID:54f721e9-7ea4-479d-96da-adfc62ecfeca
DTSTAMP:20100724T130000Z
DTSTART:20100724T130000Z
DTEND:20100725T020000Z
SUMMARY:Rescue Ride 2010
DESCRIPTION:The ride starts at the Bethel Christian Church and begins
 at 9:00 am. The 22 mile ride will also have music and food.
 The ride will benefit Impact Nations.
LOCATION:
URL:<a target="_blank" href="http://www.rescue-ride.org" title="Visit www.rescue-ride.org">http://www.rescue-ride.org</a>
END:VEVENT
END:VCALENDAR