 
BEGIN:VCALENDAR
VERSION:2.0
PRODID:-//Events//1.0
CALSCALE:GREGORIAN
METHOD:PUBLISH
X-WR-CALNAME:1st Annual Hubcaps Biker Blast
X-WR-CALDESC:The bike show will be held at 3415 Highway 82 East in
 Gainesville. The event starts at 12:30 pm.\n  The bike show
 will have 12 categories and best in show. Cash and trophies
 will be awarded. There will also be music. All proceeds go
 to Notforgotten.TV
BEGIN:VEVENT
UID:f121b117-9790-4373-ba3b-b1231d79b9ac
DTSTAMP:20100710T130000Z
DTSTART:20100710T130000Z
DTEND:20100711T020000Z
SUMMARY:1st Annual Hubcaps Biker Blast
DESCRIPTION:The bike show will be held at 3415 Highway 82 East in
 Gainesville. The event starts at 12:30 pm.\n  The bike show
 will have 12 categories and best in show. Cash and trophies
 will be awarded. There will also be music. All proceeds go
 to Notforgotten.TV
LOCATION:
URL:<a target="_blank" href="http://www.hubcapswings.com/bikerblast.htm" title="Visit www.hubcapswings.com">http://www.hubcapswings.com/bikerblast.htm</a>
END:VEVENT
END:VCALENDAR