 
BEGIN:VCALENDAR
VERSION:2.0
PRODID:-//Events//1.0
CALSCALE:GREGORIAN
METHOD:PUBLISH
X-WR-CALNAME:H.O.G. Route 62 Rally, Western Cape, S Africa.
X-WR-CALDESC:The South African Cape Town Chapter is pulling out all the
 stops to ensure your rally going experience is one to be
 remembered in 2010!        The H.O.G. Route 62 rally
 provides all participants with the opportunity to
 experience a rally where every detail is planned, to enjoy
 some of the Western Cape’s most scenic routes and of course
 the fantastic hospitality of the various towns and stops
 that make up Route 62.        Route 62 covers well surfaced
 roads that carry very little traffic making the route
 perfect for biking through dramatic scenic mountain passes
 and along stretches of landscape that take your breath
 away. Equally beautiful, the route passes numerous rivers,
 vineyards and fruit orchards as it winds gently through the
 Breede River Valley and Klein Karoo.        Rides from the
 various parts of South Africa can incorporate the
 picturesque beauty of the country as participants make
 their way to the rally site.        In 2010 the Route 62
 Rally is being held in the warm Karoo town of Oudtshoorn
 famous for its ostrich breeding farms, the Cango caves, hot
 air ballooning, and small town hospitality.        This
 event has a choice of exciting outrides from short 50km to
 winding 300km routes, the ever popular Harley games will
 challenge and entertain, while a selection of popular bands
 will keep the party rocking. There will be a number of
 Traders with fashionable merchandise while regional
 specific cuisine will tempt your tastebuds as you relax to
 Karoo hospitality.        We look forward to hosting you in
 2010.
BEGIN:VEVENT
UID:f27e13fa-f818-4916-9968-8ee85c2e0808
DTSTAMP:20100211T092500Z
DTSTART:20100211T092500Z
DTEND:20100215T081000Z
SUMMARY:H.O.G. Route 62 Rally, Western Cape, S Africa.
DESCRIPTION:The South African Cape Town Chapter is pulling out all the
 stops to ensure your rally going experience is one to be
 remembered in 2010!        The H.O.G. Route 62 rally
 provides all participants with the opportunity to
 experience a rally where every detail is planned, to enjoy
 some of the Western Cape’s most scenic routes and of course
 the fantastic hospitality of the various towns and stops
 that make up Route 62.        Route 62 covers well surfaced
 roads that carry very little traffic making the route
 perfect for biking through dramatic scenic mountain passes
 and along stretches of landscape that take your breath
 away. Equally beautiful, the route passes numerous rivers,
 vineyards and fruit orchards as it winds gently through the
 Breede River Valley and Klein Karoo.        Rides from the
 various parts of South Africa can incorporate the
 picturesque beauty of the country as participants make
 their way to the rally site.        In 2010 the Route 62
 Rally is being held in the warm Karoo town of Oudtshoorn
 famous for its ostrich breeding farms, the Cango caves, hot
 air ballooning, and small town hospitality.        This
 event has a choice of exciting outrides from short 50km to
 winding 300km routes, the ever popular Harley games will
 challenge and entertain, while a selection of popular bands
 will keep the party rocking. There will be a number of
 Traders with fashionable merchandise while regional
 specific cuisine will tempt your tastebuds as you relax to
 Karoo hospitality.        We look forward to hosting you in
 2010.
LOCATION:
URL:<a target="_blank" href="http://www.route62rally.co.za" title="Visit www.route62rally.co.za">www.route62rally.co.za</a>
END:VEVENT
END:VCALENDAR